BEGIN:VCALENDAR
VERSION:2.0
PRODID:-//sandraduenschede - ECPv5.14.0.1//NONSGML v1.0//EN
CALSCALE:GREGORIAN
METHOD:PUBLISH
X-WR-CALNAME:sandraduenschede
X-ORIGINAL-URL:https://www.sandraduenschede.de
X-WR-CALDESC:Veranstaltungen für sandraduenschede
BEGIN:VTIMEZONE
TZID:Europe/Helsinki
BEGIN:DAYLIGHT
TZOFFSETFROM:+0200
TZOFFSETTO:+0300
TZNAME:EEST
DTSTART:20210328T010000
END:DAYLIGHT
BEGIN:STANDARD
TZOFFSETFROM:+0300
TZOFFSETTO:+0200
TZNAME:EET
DTSTART:20211031T010000
END:STANDARD
END:VTIMEZONE
BEGIN:VEVENT
DTSTART;TZID=Europe/Helsinki:20210923T190000
DTEND;TZID=Europe/Helsinki:20210923T190000
DTSTAMP:20260422T222040
CREATED:20210910T101524Z
LAST-MODIFIED:20210910T101524Z
UID:87879-1632423600-1632423600@www.sandraduenschede.de
SUMMARY:Lesung aus 'Friesentod' mit Sandra Dünschede in Glücksburg im Rahmen der Lesereise Schleswig-Holstein
DESCRIPTION:
URL:https://www.sandraduenschede.de/veranstaltung/matjes-mit-schlagobers-doppellesung-mit-monika-buttler-und-sandra-duenschede-im-speicherstadtmuseum-hamburg-2-2-2/
LOCATION:Stadtbücherei Glücksburg\, Bahnhofstraße 6\, Glücksburg\, 24960\, Deutschland
CATEGORIES:Lesung
ORGANIZER;CN="Stadtb%C3%BCcherei%20Gl%C3%BCcksburg":MAILTO:stabue.gluecksburg@gmx.de
END:VEVENT
END:VCALENDAR