BEGIN:VCALENDAR
VERSION:2.0
PRODID:-//sandraduenschede - ECPv5.14.0.1//NONSGML v1.0//EN
CALSCALE:GREGORIAN
METHOD:PUBLISH
X-WR-CALNAME:sandraduenschede
X-ORIGINAL-URL:https://www.sandraduenschede.de
X-WR-CALDESC:Veranstaltungen für sandraduenschede
BEGIN:VTIMEZONE
TZID:Europe/Helsinki
BEGIN:DAYLIGHT
TZOFFSETFROM:+0200
TZOFFSETTO:+0300
TZNAME:EEST
DTSTART:20210328T010000
END:DAYLIGHT
BEGIN:STANDARD
TZOFFSETFROM:+0300
TZOFFSETTO:+0200
TZNAME:EET
DTSTART:20211031T010000
END:STANDARD
END:VTIMEZONE
BEGIN:VEVENT
DTSTART;TZID=Europe/Helsinki:20210902T193000
DTEND;TZID=Europe/Helsinki:20210902T213000
DTSTAMP:20260421T134357
CREATED:20210618T101335Z
LAST-MODIFIED:20210618T101335Z
UID:87864-1630611000-1630618200@www.sandraduenschede.de
SUMMARY:Lesung aus 'Friesenstolz' mit Sandra Dünschede in Norderstedt
DESCRIPTION:
URL:https://www.sandraduenschede.de/veranstaltung/matjes-mit-schlagobers-doppellesung-mit-monika-buttler-und-sandra-duenschede-im-speicherstadtmuseum-hamburg-2-2/
LOCATION:Stadtbücherei Norderstedt-Mitte\, Rathausallee50\, Norderstedt\, 22846\, Deutschland
CATEGORIES:Lesung
ORGANIZER;CN="Stadtb%C3%BCcherei%20Norderstedt-Mitte":MAILTO:E-Mail: stb-mitte@norderstedt.de
END:VEVENT
END:VCALENDAR