BEGIN:VCALENDAR
VERSION:2.0
PRODID:-//sandraduenschede - ECPv5.14.0.1//NONSGML v1.0//EN
CALSCALE:GREGORIAN
METHOD:PUBLISH
X-WR-CALNAME:sandraduenschede
X-ORIGINAL-URL:https://www.sandraduenschede.de
X-WR-CALDESC:Veranstaltungen für sandraduenschede
BEGIN:VTIMEZONE
TZID:Europe/Helsinki
BEGIN:DAYLIGHT
TZOFFSETFROM:+0200
TZOFFSETTO:+0300
TZNAME:EEST
DTSTART:20220327T010000
END:DAYLIGHT
BEGIN:STANDARD
TZOFFSETFROM:+0300
TZOFFSETTO:+0200
TZNAME:EET
DTSTART:20221030T010000
END:STANDARD
END:VTIMEZONE
BEGIN:VEVENT
DTSTART;TZID=Europe/Helsinki:20220209T190000
DTEND;TZID=Europe/Helsinki:20220209T203000
DTSTAMP:20260423T012127
CREATED:20220118T164126Z
LAST-MODIFIED:20220118T164126Z
UID:87894-1644433200-1644438600@www.sandraduenschede.de
SUMMARY:Regelmäßige Schreibwerkstatt mit Sandra Dünschede in HH-Langenhorn
DESCRIPTION:Weitere Informationen\, Termine und Anmeldung bei der VHS Hamburg.
URL:https://www.sandraduenschede.de/veranstaltung/regelmaessige-online-schreibwerkstatt-mit-sandra-duenschede-2-3/
LOCATION:Ev.-luth. Kirchengemeinde Eirene\, Willersweg 31\, Hamburg\, 22415\, Deutschland
CATEGORIES:Seminar
ORGANIZER;CN="VHS%20Hamburg":MAILTO:service@vhs-hamburg.de
END:VEVENT
END:VCALENDAR