BEGIN:VCALENDAR
VERSION:2.0
PRODID:-//sandraduenschede - ECPv5.14.0.1//NONSGML v1.0//EN
CALSCALE:GREGORIAN
METHOD:PUBLISH
X-WR-CALNAME:sandraduenschede
X-ORIGINAL-URL:https://www.sandraduenschede.de
X-WR-CALDESC:Veranstaltungen für sandraduenschede
BEGIN:VTIMEZONE
TZID:Europe/Helsinki
BEGIN:DAYLIGHT
TZOFFSETFROM:+0200
TZOFFSETTO:+0300
TZNAME:EEST
DTSTART:20210328T010000
END:DAYLIGHT
BEGIN:STANDARD
TZOFFSETFROM:+0300
TZOFFSETTO:+0200
TZNAME:EET
DTSTART:20211031T010000
END:STANDARD
END:VTIMEZONE
BEGIN:VEVENT
DTSTART;TZID=Europe/Helsinki:20210906T173000
DTEND;TZID=Europe/Helsinki:20210906T190000
DTSTAMP:20260421T121444
CREATED:20210719T111517Z
LAST-MODIFIED:20210719T111542Z
UID:87877-1630949400-1630954800@www.sandraduenschede.de
SUMMARY:Regelmäßiger Literaturkreis mit Sandra Dünschede in Elmshorn
DESCRIPTION:Weitere Informationen\, Termine und Anmeldung bei der VHS Elmshorn
URL:https://www.sandraduenschede.de/veranstaltung/schreibworkshop-mit-sandra-duenschede-in-schleswig-2-2-2-2-2-2-2-2-4-2-2/
LOCATION:VHS Elmshorn\, Bismarckstr. 13\, Elmshorn\, 25335\, Deutschland
CATEGORIES:Seminar
END:VEVENT
END:VCALENDAR