BEGIN:VCALENDAR
VERSION:2.0
PRODID:-//sandraduenschede - ECPv5.14.0.1//NONSGML v1.0//EN
CALSCALE:GREGORIAN
METHOD:PUBLISH
X-WR-CALNAME:sandraduenschede
X-ORIGINAL-URL:https://www.sandraduenschede.de
X-WR-CALDESC:Veranstaltungen für sandraduenschede
BEGIN:VTIMEZONE
TZID:Europe/Helsinki
BEGIN:DAYLIGHT
TZOFFSETFROM:+0200
TZOFFSETTO:+0300
TZNAME:EEST
DTSTART:20210328T010000
END:DAYLIGHT
BEGIN:STANDARD
TZOFFSETFROM:+0300
TZOFFSETTO:+0200
TZNAME:EET
DTSTART:20211031T010000
END:STANDARD
END:VTIMEZONE
BEGIN:VEVENT
DTSTART;TZID=Europe/Helsinki:20210907T100000
DTEND;TZID=Europe/Helsinki:20210907T113000
DTSTAMP:20260421T153001
CREATED:20210624T120706Z
LAST-MODIFIED:20210624T120706Z
UID:87873-1631008800-1631014200@www.sandraduenschede.de
SUMMARY:Regelmäßiger Online-Literaturkreis mit Sandra Dünschede
DESCRIPTION:Weitere Informationen\, Termine und Anmeldung bei der VHS Hamburg.
URL:https://www.sandraduenschede.de/veranstaltung/schreibworkshop-mit-sandra-duenschede-in-schleswig-2-2-2-2-2-2-2-2-4-4-2-2/
LOCATION:VHS-Cloud\, online\, Deutschland
CATEGORIES:Seminar
ORGANIZER;CN="VHS%20Hamburg":MAILTO:service@vhs-hamburg.de
END:VEVENT
END:VCALENDAR