BEGIN:VCALENDAR
VERSION:2.0
PRODID:-//sandraduenschede - ECPv5.14.0.1//NONSGML v1.0//EN
CALSCALE:GREGORIAN
METHOD:PUBLISH
X-WR-CALNAME:sandraduenschede
X-ORIGINAL-URL:https://www.sandraduenschede.de
X-WR-CALDESC:Veranstaltungen für sandraduenschede
BEGIN:VTIMEZONE
TZID:Europe/Helsinki
BEGIN:DAYLIGHT
TZOFFSETFROM:+0200
TZOFFSETTO:+0300
TZNAME:EEST
DTSTART:20210328T010000
END:DAYLIGHT
BEGIN:STANDARD
TZOFFSETFROM:+0300
TZOFFSETTO:+0200
TZNAME:EET
DTSTART:20211031T010000
END:STANDARD
END:VTIMEZONE
BEGIN:VEVENT
DTSTART;TZID=Europe/Helsinki:20210906T191500
DTEND;TZID=Europe/Helsinki:20210906T213000
DTSTAMP:20260421T134939
CREATED:20210719T111750Z
LAST-MODIFIED:20210719T111750Z
UID:87878-1630955700-1630963800@www.sandraduenschede.de
SUMMARY:Regelmäßige Schreibwerkstatt mit Sandra Dünschede in Elmshorn
DESCRIPTION:Weitere Informationen\, Termine und Anmeldung bei der VHS Elmshorn
URL:https://www.sandraduenschede.de/veranstaltung/schreibworkshop-mit-sandra-duenschede-in-schleswig-2-2-2-2-2-2-2-4-2-2/
LOCATION:VHS Elmshorn\, Bismarckstr. 13\, Elmshorn\, 25335\, Deutschland
CATEGORIES:Seminar
END:VEVENT
END:VCALENDAR